BEGIN:VCALENDAR
VERSION:2.0
PRODID:-//American Legion Post 315 Wylie, Texas 75098 - ECPv6.15.20//NONSGML v1.0//EN
CALSCALE:GREGORIAN
METHOD:PUBLISH
X-ORIGINAL-URL:https://wylielegion.org
X-WR-CALDESC:Events for American Legion Post 315 Wylie, Texas 75098
REFRESH-INTERVAL;VALUE=DURATION:PT1H
X-Robots-Tag:noindex
X-PUBLISHED-TTL:PT1H
BEGIN:VTIMEZONE
TZID:America/New_York
BEGIN:DAYLIGHT
TZOFFSETFROM:-0500
TZOFFSETTO:-0400
TZNAME:EDT
DTSTART:20250309T070000
END:DAYLIGHT
BEGIN:STANDARD
TZOFFSETFROM:-0400
TZOFFSETTO:-0500
TZNAME:EST
DTSTART:20251102T060000
END:STANDARD
BEGIN:DAYLIGHT
TZOFFSETFROM:-0500
TZOFFSETTO:-0400
TZNAME:EDT
DTSTART:20260308T070000
END:DAYLIGHT
BEGIN:STANDARD
TZOFFSETFROM:-0400
TZOFFSETTO:-0500
TZNAME:EST
DTSTART:20261101T060000
END:STANDARD
BEGIN:DAYLIGHT
TZOFFSETFROM:-0500
TZOFFSETTO:-0400
TZNAME:EDT
DTSTART:20270314T070000
END:DAYLIGHT
BEGIN:STANDARD
TZOFFSETFROM:-0400
TZOFFSETTO:-0500
TZNAME:EST
DTSTART:20271107T060000
END:STANDARD
BEGIN:DAYLIGHT
TZOFFSETFROM:-0500
TZOFFSETTO:-0400
TZNAME:EDT
DTSTART:20280312T070000
END:DAYLIGHT
BEGIN:STANDARD
TZOFFSETFROM:-0400
TZOFFSETTO:-0500
TZNAME:EST
DTSTART:20281105T060000
END:STANDARD
END:VTIMEZONE
BEGIN:VEVENT
DTSTART;TZID=America/New_York:20261125T180000
DTEND;TZID=America/New_York:20261125T200000
DTSTAMP:20260424T120209
CREATED:20250729T210051Z
LAST-MODIFIED:20260409T150012Z
UID:3877-1795629600-1795636800@wylielegion.org
SUMMARY:Post Executive Meeting - NOV 2026
DESCRIPTION:check your emails for location \n  \n  \nExecutive Meeting cancelled due to Thanksgiving holidays
URL:https://wylielegion.org/events_calendar/post-executive-meeting-sept/
LOCATION:TX
END:VEVENT
BEGIN:VEVENT
DTSTART;TZID=America/New_York:20261201T190000
DTEND;TZID=America/New_York:20261201T200000
DTSTAMP:20260424T120209
CREATED:20250930T032103Z
LAST-MODIFIED:20260101T212903Z
UID:4060-1796151600-1796155200@wylielegion.org
SUMMARY:A.R.C. Meeting - DECEMBER 2026
DESCRIPTION:The American Legion Post 315 amateur Radio Club holds their meeting the 1st TUESDAY of each Month at 7:00 pm – 8:00pm at the American National Bank – Wylie Branch 301 E HWY 78\, Wylie Tx
URL:https://wylielegion.org/events_calendar/a-r-c-meeting-december/
LOCATION:Amateur Radio Club Meeting\, 301 S. HWY 78\, Wylie\, TX\, 75098\, United States
ORGANIZER;CN="Chet Rolland":MAILTO:chwc001@tx.rr.com
END:VEVENT
BEGIN:VEVENT
DTSTART;TZID=America/New_York:20261208T190000
DTEND;TZID=America/New_York:20261208T200000
DTSTAMP:20260424T120209
CREATED:20250930T030527Z
LAST-MODIFIED:20260101T212633Z
UID:4042-1796756400-1796760000@wylielegion.org
SUMMARY:S.A.L mtg -  DECEMBER 2026
DESCRIPTION:S.A.L meetings occur on the 2nd Tuesday of the month\, starting at 7:00 pm – 8:pm \nLocation: \nAmerican National Bank – Wylie Branch \n301 S. Hwy 78 \nWylie\, Tx 75098 \n 
URL:https://wylielegion.org/events_calendar/s-a-l-mtg-december/
LOCATION:SAL meeting\, 301 s. Highway 78\, Wylie\, Tx\, TX\, 75098\, United States
END:VEVENT
BEGIN:VEVENT
DTSTART;TZID=America/New_York:20261212T100000
DTEND;TZID=America/New_York:20261212T110000
DTSTAMP:20260424T120209
CREATED:20250226T210505Z
LAST-MODIFIED:20260101T212307Z
UID:3687-1797069600-1797073200@wylielegion.org
SUMMARY:AL Post 315 Monthly Meeting - DECEMBER 2026
DESCRIPTION:The American Legion Hale-Combest Post 315\, Wylie\, tx convenes its monthly meeting on the 2nd Saturday of each month at the Biker Church 2555  FM 544\, Wylie\, Tx from 10:00 am – 11:00 am
URL:https://wylielegion.org/events_calendar/american-legion-post-315-monthly-meeting-november/
LOCATION:Post Meeting\, 2555 W FM 544\, Wylie\, TX\, Tx\, United States
END:VEVENT
BEGIN:VEVENT
DTSTART;TZID=America/New_York:20261230T060000
DTEND;TZID=America/New_York:20261230T200000
DTSTAMP:20260424T120209
CREATED:20250729T210008Z
LAST-MODIFIED:20260409T145942Z
UID:3875-1798610400-1798660800@wylielegion.org
SUMMARY:Post Executive Meeting  - DEC - 2026
DESCRIPTION:check your post emails for location \n  \n 
URL:https://wylielegion.org/events_calendar/post-executive-meeting-august/
LOCATION:TX
END:VEVENT
BEGIN:VEVENT
DTSTART;TZID=America/New_York:20270202T190000
DTEND;TZID=America/New_York:20270202T200000
DTSTAMP:20260424T120209
CREATED:20260101T213647Z
LAST-MODIFIED:20260409T150812Z
UID:4149-1801594800-1801598400@wylielegion.org
SUMMARY:A.R.C Meeting - February 2027
DESCRIPTION:The American Legion Post 315 amateur Radio Club holds their meeting the 1st TUESDAY of each Month at 7:00 pm – 8:00pm at the American National Bank – Wylie Branch 301 E HWY 78\, Wylie Tx
URL:https://wylielegion.org/events_calendar/a-r-c-meeting-february-2026/
LOCATION:TX
END:VEVENT
BEGIN:VEVENT
DTSTART;TZID=America/New_York:20270213T100000
DTEND;TZID=America/New_York:20270213T110000
DTSTAMP:20260424T120209
CREATED:20250226T210221Z
LAST-MODIFIED:20260409T150604Z
UID:3679-1802512800-1802516400@wylielegion.org
SUMMARY:AL Post 315 Monthly Meeting - FEBRUARY 2027
DESCRIPTION:The American Legion Hale-Combest Post 315\, Wylie\, tx convenes its monthly meeting on the 2nd Saturday of each month at the Biker Church 2555  FM 544\, Wylie\, Tx from 10:00 am – 11:00 am
URL:https://wylielegion.org/events_calendar/american-legion-post-315-monthly-meeting-july/
LOCATION:Post Meeting\, 2555 W FM 544\, Wylie\, TX\, Tx\, United States
END:VEVENT
BEGIN:VEVENT
DTSTART;TZID=America/New_York:20270313T100000
DTEND;TZID=America/New_York:20270313T110000
DTSTAMP:20260424T120209
CREATED:20260121T225819Z
LAST-MODIFIED:20260409T150658Z
UID:4179-1804932000-1804935600@wylielegion.org
SUMMARY:Post 315 Monthly Meeting - MARCH 2027
DESCRIPTION:The American Legion Hale-Combest Post 315\, Wylie\, tx convenes its monthly meeting on the 2nd Saturday of each month at the Biker Church 2555  FM 544\, Wylie\, Tx from 10:00 am – 11:00 am
URL:https://wylielegion.org/events_calendar/post-315-monthly-meeting-march-2026/
LOCATION:Post Meeting\, 2555 W FM 544\, Wylie\, TX\, Tx\, United States
END:VEVENT
BEGIN:VEVENT
DTSTART;TZID=America/New_York:20270331T180000
DTEND;TZID=America/New_York:20270331T200000
DTSTAMP:20260424T120209
CREATED:20260111T160139Z
LAST-MODIFIED:20260409T150407Z
UID:4164-1806516000-1806523200@wylielegion.org
SUMMARY:Post Executive Meeting - MARCH 2027
DESCRIPTION:check your post emails for location
URL:https://wylielegion.org/events_calendar/post-executive-meeting-march-2026/
LOCATION:TX
END:VEVENT
END:VCALENDAR