BEGIN:VCALENDAR
VERSION:2.0
PRODID:-//American Legion Post 315 Wylie, Texas 75098 - ECPv6.15.20//NONSGML v1.0//EN
CALSCALE:GREGORIAN
METHOD:PUBLISH
X-WR-CALNAME:American Legion Post 315 Wylie, Texas 75098
X-ORIGINAL-URL:https://wylielegion.org
X-WR-CALDESC:Events for American Legion Post 315 Wylie, Texas 75098
REFRESH-INTERVAL;VALUE=DURATION:PT1H
X-Robots-Tag:noindex
X-PUBLISHED-TTL:PT1H
BEGIN:VTIMEZONE
TZID:America/New_York
BEGIN:DAYLIGHT
TZOFFSETFROM:-0500
TZOFFSETTO:-0400
TZNAME:EDT
DTSTART:20250309T070000
END:DAYLIGHT
BEGIN:STANDARD
TZOFFSETFROM:-0400
TZOFFSETTO:-0500
TZNAME:EST
DTSTART:20251102T060000
END:STANDARD
BEGIN:DAYLIGHT
TZOFFSETFROM:-0500
TZOFFSETTO:-0400
TZNAME:EDT
DTSTART:20260308T070000
END:DAYLIGHT
BEGIN:STANDARD
TZOFFSETFROM:-0400
TZOFFSETTO:-0500
TZNAME:EST
DTSTART:20261101T060000
END:STANDARD
BEGIN:DAYLIGHT
TZOFFSETFROM:-0500
TZOFFSETTO:-0400
TZNAME:EDT
DTSTART:20270314T070000
END:DAYLIGHT
BEGIN:STANDARD
TZOFFSETFROM:-0400
TZOFFSETTO:-0500
TZNAME:EST
DTSTART:20271107T060000
END:STANDARD
END:VTIMEZONE
BEGIN:VEVENT
DTSTART;TZID=America/New_York:20260429T180000
DTEND;TZID=America/New_York:20260429T200000
DTSTAMP:20260422T085739
CREATED:20260111T160223Z
LAST-MODIFIED:20260409T150222Z
UID:4166-1777485600-1777492800@wylielegion.org
SUMMARY:Post 315 Executive Meeting - APRIL  2026
DESCRIPTION:check your post emails for location
URL:https://wylielegion.org/events_calendar/post-315-executive-meeting-april-2026/
LOCATION:TX
END:VEVENT
BEGIN:VEVENT
DTSTART;TZID=America/New_York:20260414T190000
DTEND;TZID=America/New_York:20260414T190000
DTSTAMP:20260422T085739
CREATED:20250930T031102Z
LAST-MODIFIED:20251217T213627Z
UID:4049-1776193200-1776193200@wylielegion.org
SUMMARY:S.A.L Meeting - APRIL 2026 - CANCELLED
DESCRIPTION:S.A.L meetings occur on the 2nd Tuesday of the month\, starting at 7:00 pm – 8:pm \nLocation: \nAmerican National Bank – Wylie Branch \n301 S. Hwy 78 \nWylie\, Tx 75098 \n 
URL:https://wylielegion.org/events_calendar/s-a-l-meeting-april/
LOCATION:SAL meeting\, 301 s. Highway 78\, Wylie\, Tx\, TX\, 75098\, United States
ORGANIZER;CN="Chet Rolland":MAILTO:chwc001@tx.rr.com
END:VEVENT
BEGIN:VEVENT
DTSTART;TZID=America/New_York:20260407T190000
DTEND;TZID=America/New_York:20260407T200000
DTSTAMP:20260422T085739
CREATED:20260101T213854Z
LAST-MODIFIED:20260101T213854Z
UID:4153-1775588400-1775592000@wylielegion.org
SUMMARY:A.R.C Meeting APRIL  2026
DESCRIPTION:The American Legion Post 315 amateur Radio Club holds their meeting the 1st TUESDAY of each Month at 7:00 pm – 8:00pm at the American National Bank – Wylie Branch 301 E HWY 78\, Wylie Tx
URL:https://wylielegion.org/events_calendar/a-r-c-meeting-april-2026/
LOCATION:TX
END:VEVENT
BEGIN:VEVENT
DTSTART;TZID=America/New_York:20260310T190000
DTEND;TZID=America/New_York:20260310T200000
DTSTAMP:20260422T085739
CREATED:20250930T031009Z
LAST-MODIFIED:20260101T212506Z
UID:4047-1773169200-1773172800@wylielegion.org
SUMMARY:S.A.L. Meeting - MARCH 2026
DESCRIPTION:S.A.L meetings occur on the 2nd Tuesday of the month\, starting at 7:00 pm – 8:pm \nLocation: \nAmerican National Bank – Wylie Branch \n301 S. Hwy 78 \nWylie\, Tx 75098 \n 
URL:https://wylielegion.org/events_calendar/s-a-l-meeting-march/
LOCATION:SAL meeting\, 301 s. Highway 78\, Wylie\, Tx\, TX\, 75098\, United States
ORGANIZER;CN="Chet Rolland":MAILTO:chwc001@tx.rr.com
END:VEVENT
BEGIN:VEVENT
DTSTART;TZID=America/New_York:20260303T190000
DTEND;TZID=America/New_York:20260303T200000
DTSTAMP:20260422T085739
CREATED:20260101T213745Z
LAST-MODIFIED:20260101T213745Z
UID:4151-1772564400-1772568000@wylielegion.org
SUMMARY:A.R.C. Meeting March  2026
DESCRIPTION:The American Legion Post 315 amateur Radio Club holds their meeting the 1st TUESDAY of each Month at 7:00 pm – 8:00pm at the American National Bank – Wylie Branch 301 E HWY 78\, Wylie Tx
URL:https://wylielegion.org/events_calendar/a-r-c-meeting-march-2026/
LOCATION:TX
END:VEVENT
BEGIN:VEVENT
DTSTART;TZID=America/New_York:20260225T180000
DTEND;TZID=America/New_York:20260225T200000
DTSTAMP:20260422T085739
CREATED:20260111T160056Z
LAST-MODIFIED:20260409T150444Z
UID:4162-1772042400-1772049600@wylielegion.org
SUMMARY:POST 315 Executive Meeting - FEBRUARY 2027
DESCRIPTION:check your post emails for location
URL:https://wylielegion.org/events_calendar/post-315-executive-meeting-february-2026/
LOCATION:TX
END:VEVENT
BEGIN:VEVENT
DTSTART;TZID=America/New_York:20260215T150000
DTEND;TZID=America/New_York:20260215T170000
DTSTAMP:20260422T085739
CREATED:20260120T224849Z
LAST-MODIFIED:20260120T224849Z
UID:4176-1771167600-1771174800@wylielegion.org
SUMMARY:First Responder and Veteran Suicides prevention Walk - FEBRUARY 2026
DESCRIPTION:On the third Sunday of every month there is a 2 mile walk on the bridge in Rockwall to bring attention to First Responder and Veteran Suicides. \nIn the winter months\, it begins at 1500.  It is one mile out and one mile back. \nThe meet-up location is Heroes Memorial Park\, 1120 W. Rusk St.\, Rockwall (the public boat ramp area).
URL:https://wylielegion.org/events_calendar/first-responder-and-veteran-suicides-prevention-walk-february-2026/
LOCATION:First Responder and Veteran Suicides prevention Walk\, Heroes Memorial Park 1120 W. Rusk St\, Rockwall\, TX\, United States
END:VEVENT
BEGIN:VEVENT
DTSTART;TZID=America/New_York:20260210T190000
DTEND;TZID=America/New_York:20260210T200000
DTSTAMP:20260422T085739
CREATED:20250930T030828Z
LAST-MODIFIED:20251217T213528Z
UID:4045-1770750000-1770753600@wylielegion.org
SUMMARY:S.A.L Meeting - FEBRUARY 2026 - CANCELLED
DESCRIPTION:S.A.L meetings occur on the 2nd Tuesday of the month\, starting at 7:00 pm – 8:pm \nLocation: \nAmerican National Bank – Wylie Branch \n301 S. Hwy 78 \nWylie\, Tx 75098 \n 
URL:https://wylielegion.org/events_calendar/s-a-l-meeting-february/
LOCATION:SAL meeting\, 301 s. Highway 78\, Wylie\, Tx\, TX\, 75098\, United States
ORGANIZER;CN="Chet Rolland":MAILTO:chwc001@tx.rr.com
END:VEVENT
BEGIN:VEVENT
DTSTART;TZID=America/New_York:20260127T180000
DTEND;TZID=America/New_York:20260127T200000
DTSTAMP:20260422T085739
CREATED:20260111T160002Z
LAST-MODIFIED:20260111T160002Z
UID:4160-1769536800-1769544000@wylielegion.org
SUMMARY:Post 315 Executive Meeting - JANUARY 2026
DESCRIPTION:check your post emails for location
URL:https://wylielegion.org/events_calendar/post-315-executive-meeting-january-2026/
LOCATION:TX
ORGANIZER;CN="Chet Rolland":MAILTO:chwc001@tx.rr.com
END:VEVENT
END:VCALENDAR