BEGIN:VCALENDAR
VERSION:2.0
PRODID:-//American Legion Post 315 Wylie, Texas 75098 - ECPv6.15.20//NONSGML v1.0//EN
CALSCALE:GREGORIAN
METHOD:PUBLISH
X-WR-CALNAME:American Legion Post 315 Wylie, Texas 75098
X-ORIGINAL-URL:https://wylielegion.org
X-WR-CALDESC:Events for American Legion Post 315 Wylie, Texas 75098
REFRESH-INTERVAL;VALUE=DURATION:PT1H
X-Robots-Tag:noindex
X-PUBLISHED-TTL:PT1H
BEGIN:VTIMEZONE
TZID:America/New_York
BEGIN:DAYLIGHT
TZOFFSETFROM:-0500
TZOFFSETTO:-0400
TZNAME:EDT
DTSTART:20250309T070000
END:DAYLIGHT
BEGIN:STANDARD
TZOFFSETFROM:-0400
TZOFFSETTO:-0500
TZNAME:EST
DTSTART:20251102T060000
END:STANDARD
BEGIN:DAYLIGHT
TZOFFSETFROM:-0500
TZOFFSETTO:-0400
TZNAME:EDT
DTSTART:20260308T070000
END:DAYLIGHT
BEGIN:STANDARD
TZOFFSETFROM:-0400
TZOFFSETTO:-0500
TZNAME:EST
DTSTART:20261101T060000
END:STANDARD
BEGIN:DAYLIGHT
TZOFFSETFROM:-0500
TZOFFSETTO:-0400
TZNAME:EDT
DTSTART:20270314T070000
END:DAYLIGHT
BEGIN:STANDARD
TZOFFSETFROM:-0400
TZOFFSETTO:-0500
TZNAME:EST
DTSTART:20271107T060000
END:STANDARD
END:VTIMEZONE
BEGIN:VEVENT
DTSTART;TZID=America/New_York:20261110T190000
DTEND;TZID=America/New_York:20261110T200000
DTSTAMP:20260424T114837
CREATED:20250925T160154Z
LAST-MODIFIED:20260101T212748Z
UID:4014-1794337200-1794340800@wylielegion.org
SUMMARY:S.A.L. Mtg - NOVEMBER 2026
DESCRIPTION:S.A.L meetings occur on the 2nd Tuesday of the month\, starting at 7:00 pm – 8:pm \nLocation: \nAmerican National Bank – Wylie Branch \n301 S. Hwy 78 \nWylie\, Tx 75098 \n 
URL:https://wylielegion.org/events_calendar/sons-of-the-american-legion-mtg-2/
LOCATION:SAL meeting\, 301 s. Highway 78\, Wylie\, Tx\, TX\, 75098\, United States
ORGANIZER;CN="Chet Rolland":MAILTO:chwc001@tx.rr.com
END:VEVENT
END:VCALENDAR